BEGIN:VCALENDAR
VERSION:2.0
PRODID:-//JC Oase - ECPv6.15.17//NONSGML v1.0//EN
CALSCALE:GREGORIAN
METHOD:PUBLISH
X-ORIGINAL-URL:https://jc-oase.nl
X-WR-CALDESC:Evenementen voor JC Oase
REFRESH-INTERVAL;VALUE=DURATION:PT1H
X-Robots-Tag:noindex
X-PUBLISHED-TTL:PT1H
BEGIN:VTIMEZONE
TZID:Europe/Amsterdam
BEGIN:DAYLIGHT
TZOFFSETFROM:+0100
TZOFFSETTO:+0200
TZNAME:CEST
DTSTART:20250330T010000
END:DAYLIGHT
BEGIN:STANDARD
TZOFFSETFROM:+0200
TZOFFSETTO:+0100
TZNAME:CET
DTSTART:20251026T010000
END:STANDARD
BEGIN:DAYLIGHT
TZOFFSETFROM:+0100
TZOFFSETTO:+0200
TZNAME:CEST
DTSTART:20260329T010000
END:DAYLIGHT
BEGIN:STANDARD
TZOFFSETFROM:+0200
TZOFFSETTO:+0100
TZNAME:CET
DTSTART:20261025T010000
END:STANDARD
BEGIN:DAYLIGHT
TZOFFSETFROM:+0100
TZOFFSETTO:+0200
TZNAME:CEST
DTSTART:20270328T010000
END:DAYLIGHT
BEGIN:STANDARD
TZOFFSETFROM:+0200
TZOFFSETTO:+0100
TZNAME:CET
DTSTART:20271031T010000
END:STANDARD
END:VTIMEZONE
BEGIN:VEVENT
DTSTART;TZID=Europe/Amsterdam:20261003T190000
DTEND;TZID=Europe/Amsterdam:20261004T010000
DTSTAMP:20260419T214419
CREATED:20250327T155249Z
LAST-MODIFIED:20251224T090854Z
UID:6691-1791054000-1791075600@jc-oase.nl
SUMMARY:Heavy 50
DESCRIPTION:
URL:https://jc-oase.nl/evenement/heavy-50/
LOCATION:Jeugdcentrum Oase\, Dommelstraat 10A\, Son\, Nederland
ATTACH;FMTTYPE=image/jpeg:https://jc-oase.nl/wp-content/uploads/2025/01/IMG-20250101-WA0012.jpg
ORGANIZER;CN="Jeugdcentrum Oase":MAILTO:info@jc-oase.nl
END:VEVENT
END:VCALENDAR