BEGIN:VCALENDAR
VERSION:2.0
PRODID:-//JC Oase - ECPv6.15.17//NONSGML v1.0//EN
CALSCALE:GREGORIAN
METHOD:PUBLISH
X-WR-CALNAME:JC Oase
X-ORIGINAL-URL:https://jc-oase.nl
X-WR-CALDESC:Evenementen voor JC Oase
REFRESH-INTERVAL;VALUE=DURATION:PT1H
X-Robots-Tag:noindex
X-PUBLISHED-TTL:PT1H
BEGIN:VTIMEZONE
TZID:Europe/Amsterdam
BEGIN:DAYLIGHT
TZOFFSETFROM:+0100
TZOFFSETTO:+0200
TZNAME:CEST
DTSTART:20250330T010000
END:DAYLIGHT
BEGIN:STANDARD
TZOFFSETFROM:+0200
TZOFFSETTO:+0100
TZNAME:CET
DTSTART:20251026T010000
END:STANDARD
BEGIN:DAYLIGHT
TZOFFSETFROM:+0100
TZOFFSETTO:+0200
TZNAME:CEST
DTSTART:20260329T010000
END:DAYLIGHT
BEGIN:STANDARD
TZOFFSETFROM:+0200
TZOFFSETTO:+0100
TZNAME:CET
DTSTART:20261025T010000
END:STANDARD
BEGIN:DAYLIGHT
TZOFFSETFROM:+0100
TZOFFSETTO:+0200
TZNAME:CEST
DTSTART:20270328T010000
END:DAYLIGHT
BEGIN:STANDARD
TZOFFSETFROM:+0200
TZOFFSETTO:+0100
TZNAME:CET
DTSTART:20271031T010000
END:STANDARD
END:VTIMEZONE
BEGIN:VEVENT
DTSTART;TZID=Europe/Amsterdam:20260817T080000
DTEND;TZID=Europe/Amsterdam:20260820T170000
DTSTAMP:20260419T185832
CREATED:20260209T070441Z
LAST-MODIFIED:20260209T070441Z
UID:9000-1786953600-1787245200@jc-oase.nl
SUMMARY:Kinder Vakantie Week Son
DESCRIPTION:Voor alle informatie kijk op Kindervakantie Spelweek Son
URL:https://jc-oase.nl/evenement/kinder-vakantie-week-son/
LOCATION:Jeugdcentrum Oase\, Dommelstraat 10A\, Son\, Nederland
ATTACH;FMTTYPE=image/png:https://jc-oase.nl/wp-content/uploads/2026/02/kvw-son.png
ORGANIZER;CN="Jeugdcentrum Oase":MAILTO:info@jc-oase.nl
END:VEVENT
END:VCALENDAR