BEGIN:VCALENDAR
VERSION:2.0
PRODID:-//JC Oase - ECPv6.15.17//NONSGML v1.0//EN
CALSCALE:GREGORIAN
METHOD:PUBLISH
X-WR-CALNAME:JC Oase
X-ORIGINAL-URL:https://jc-oase.nl
X-WR-CALDESC:Evenementen voor JC Oase
REFRESH-INTERVAL;VALUE=DURATION:PT1H
X-Robots-Tag:noindex
X-PUBLISHED-TTL:PT1H
BEGIN:VTIMEZONE
TZID:Europe/Amsterdam
BEGIN:DAYLIGHT
TZOFFSETFROM:+0100
TZOFFSETTO:+0200
TZNAME:CEST
DTSTART:20250330T010000
END:DAYLIGHT
BEGIN:STANDARD
TZOFFSETFROM:+0200
TZOFFSETTO:+0100
TZNAME:CET
DTSTART:20251026T010000
END:STANDARD
BEGIN:DAYLIGHT
TZOFFSETFROM:+0100
TZOFFSETTO:+0200
TZNAME:CEST
DTSTART:20260329T010000
END:DAYLIGHT
BEGIN:STANDARD
TZOFFSETFROM:+0200
TZOFFSETTO:+0100
TZNAME:CET
DTSTART:20261025T010000
END:STANDARD
BEGIN:DAYLIGHT
TZOFFSETFROM:+0100
TZOFFSETTO:+0200
TZNAME:CEST
DTSTART:20270328T010000
END:DAYLIGHT
BEGIN:STANDARD
TZOFFSETFROM:+0200
TZOFFSETTO:+0100
TZNAME:CET
DTSTART:20271031T010000
END:STANDARD
END:VTIMEZONE
BEGIN:VEVENT
DTSTART;TZID=Europe/Amsterdam:20260305T150000
DTEND;TZID=Europe/Amsterdam:20260305T170000
DTSTAMP:20260419T160129
CREATED:20251104T100748Z
LAST-MODIFIED:20251104T100748Z
UID:8926-1772722800-1772730000@jc-oase.nl
SUMMARY:Rots Water Training
DESCRIPTION:
URL:https://jc-oase.nl/evenement/rots-water-training-9/
LOCATION:Jeugdcentrum Oase\, Dommelstraat 10A\, Son\, Nederland
ATTACH;FMTTYPE=image/jpeg:https://jc-oase.nl/wp-content/uploads/2022/11/oase-logo-80x80-small-1.jpg
ORGANIZER;CN="Jeugdcentrum Oase":MAILTO:info@jc-oase.nl
END:VEVENT
BEGIN:VEVENT
DTSTART;TZID=Europe/Amsterdam:20260306T200000
DTEND;TZID=Europe/Amsterdam:20260306T223000
DTSTAMP:20260419T160129
CREATED:20250526T113101Z
LAST-MODIFIED:20250526T113101Z
UID:8177-1772827200-1772836200@jc-oase.nl
SUMMARY:Stichting Meedoen Cafe
DESCRIPTION:
URL:https://jc-oase.nl/evenement/stichting-meedoen-cafe-13/
LOCATION:Jeugdcentrum Oase\, Dommelstraat 10A\, Son\, Nederland
ATTACH;FMTTYPE=image/jpeg:https://jc-oase.nl/wp-content/uploads/2022/11/meedoen.jpg
ORGANIZER;CN="Jeugdcentrum Oase":MAILTO:info@jc-oase.nl
END:VEVENT
BEGIN:VEVENT
DTSTART;TZID=Europe/Amsterdam:20260307T193000
DTEND;TZID=Europe/Amsterdam:20260307T220000
DTSTAMP:20260419T160129
CREATED:20240924T063618Z
LAST-MODIFIED:20250610T135336Z
UID:6515-1772911800-1772920800@jc-oase.nl
SUMMARY:Disco Avond
DESCRIPTION:
URL:https://jc-oase.nl/evenement/disco-avond-10/
LOCATION:Jeugdcentrum Oase\, Dommelstraat 10A\, Son\, Nederland
ATTACH;FMTTYPE=image/jpeg:https://jc-oase.nl/wp-content/uploads/2022/08/discoavond.jpg
ORGANIZER;CN="Jeugdcentrum Oase":MAILTO:info@jc-oase.nl
END:VEVENT
END:VCALENDAR