BEGIN:VCALENDAR
VERSION:2.0
PRODID:-//JC Oase - ECPv6.15.17//NONSGML v1.0//EN
CALSCALE:GREGORIAN
METHOD:PUBLISH
X-WR-CALNAME:JC Oase
X-ORIGINAL-URL:https://jc-oase.nl
X-WR-CALDESC:Evenementen voor JC Oase
REFRESH-INTERVAL;VALUE=DURATION:PT1H
X-Robots-Tag:noindex
X-PUBLISHED-TTL:PT1H
BEGIN:VTIMEZONE
TZID:Europe/Amsterdam
BEGIN:DAYLIGHT
TZOFFSETFROM:+0100
TZOFFSETTO:+0200
TZNAME:CEST
DTSTART:20250330T010000
END:DAYLIGHT
BEGIN:STANDARD
TZOFFSETFROM:+0200
TZOFFSETTO:+0100
TZNAME:CET
DTSTART:20251026T010000
END:STANDARD
BEGIN:DAYLIGHT
TZOFFSETFROM:+0100
TZOFFSETTO:+0200
TZNAME:CEST
DTSTART:20260329T010000
END:DAYLIGHT
BEGIN:STANDARD
TZOFFSETFROM:+0200
TZOFFSETTO:+0100
TZNAME:CET
DTSTART:20261025T010000
END:STANDARD
BEGIN:DAYLIGHT
TZOFFSETFROM:+0100
TZOFFSETTO:+0200
TZNAME:CEST
DTSTART:20270328T010000
END:DAYLIGHT
BEGIN:STANDARD
TZOFFSETFROM:+0200
TZOFFSETTO:+0100
TZNAME:CET
DTSTART:20271031T010000
END:STANDARD
END:VTIMEZONE
BEGIN:VEVENT
DTSTART;TZID=Europe/Amsterdam:20260205T150000
DTEND;TZID=Europe/Amsterdam:20260205T170000
DTSTAMP:20260419T171946
CREATED:20251104T100720Z
LAST-MODIFIED:20251104T100720Z
UID:8922-1770303600-1770310800@jc-oase.nl
SUMMARY:Rots Water Training
DESCRIPTION:
URL:https://jc-oase.nl/evenement/rots-water-training-7/
LOCATION:Jeugdcentrum Oase\, Dommelstraat 10A\, Son\, Nederland
ATTACH;FMTTYPE=image/jpeg:https://jc-oase.nl/wp-content/uploads/2022/11/oase-logo-80x80-small-1.jpg
ORGANIZER;CN="Jeugdcentrum Oase":MAILTO:info@jc-oase.nl
END:VEVENT
BEGIN:VEVENT
DTSTART;TZID=Europe/Amsterdam:20260212T150000
DTEND;TZID=Europe/Amsterdam:20260212T170000
DTSTAMP:20260419T171946
CREATED:20251104T100734Z
LAST-MODIFIED:20251104T100734Z
UID:8924-1770908400-1770915600@jc-oase.nl
SUMMARY:Rots Water Training
DESCRIPTION:
URL:https://jc-oase.nl/evenement/rots-water-training-8/
LOCATION:Jeugdcentrum Oase\, Dommelstraat 10A\, Son\, Nederland
ATTACH;FMTTYPE=image/jpeg:https://jc-oase.nl/wp-content/uploads/2022/11/oase-logo-80x80-small-1.jpg
ORGANIZER;CN="Jeugdcentrum Oase":MAILTO:info@jc-oase.nl
END:VEVENT
BEGIN:VEVENT
DTSTART;TZID=Europe/Amsterdam:20260213T200000
DTEND;TZID=Europe/Amsterdam:20260213T223000
DTSTAMP:20260419T171946
CREATED:20250526T113048Z
LAST-MODIFIED:20250526T113048Z
UID:8175-1771012800-1771021800@jc-oase.nl
SUMMARY:Stichting Meedoen Cafe
DESCRIPTION:
URL:https://jc-oase.nl/evenement/stichting-meedoen-cafe-12/
LOCATION:Jeugdcentrum Oase\, Dommelstraat 10A\, Son\, Nederland
ATTACH;FMTTYPE=image/jpeg:https://jc-oase.nl/wp-content/uploads/2022/11/meedoen.jpg
ORGANIZER;CN="Jeugdcentrum Oase":MAILTO:info@jc-oase.nl
END:VEVENT
BEGIN:VEVENT
DTSTART;TZID=Europe/Amsterdam:20260214T140000
DTEND;TZID=Europe/Amsterdam:20260214T180000
DTSTAMP:20260419T171946
CREATED:20221111T130204Z
LAST-MODIFIED:20251020T061807Z
UID:1012-1771077600-1771092000@jc-oase.nl
SUMMARY:Carnaval zaterdag middag
DESCRIPTION:
URL:https://jc-oase.nl/evenement/carnaval/
LOCATION:Jeugdcentrum Oase\, Dommelstraat 10A\, Son\, Nederland
ATTACH;FMTTYPE=image/jpeg:https://jc-oase.nl/wp-content/uploads/2022/11/Confetti2_wit-1.jpg
ORGANIZER;CN="Jeugdcentrum Oase":MAILTO:info@jc-oase.nl
END:VEVENT
BEGIN:VEVENT
DTSTART;TZID=Europe/Amsterdam:20260214T190000
DTEND;TZID=Europe/Amsterdam:20260214T220000
DTSTAMP:20260419T171946
CREATED:20230109T113656Z
LAST-MODIFIED:20251020T061901Z
UID:1277-1771095600-1771106400@jc-oase.nl
SUMMARY:Carnaval zaterdag avond
DESCRIPTION:
URL:https://jc-oase.nl/evenement/carnaval-zaterdag-avond/
LOCATION:Jeugdcentrum Oase\, Dommelstraat 10A\, Son\, Nederland
ATTACH;FMTTYPE=image/jpeg:https://jc-oase.nl/wp-content/uploads/2022/11/Oase_carnavalposter.jpg
ORGANIZER;CN="Jeugdcentrum Oase":MAILTO:info@jc-oase.nl
END:VEVENT
BEGIN:VEVENT
DTSTART;TZID=Europe/Amsterdam:20260215T143000
DTEND;TZID=Europe/Amsterdam:20260215T180000
DTSTAMP:20260419T171946
CREATED:20221111T130238Z
LAST-MODIFIED:20251020T061826Z
UID:1014-1771165800-1771178400@jc-oase.nl
SUMMARY:Carnaval zondag middag
DESCRIPTION:
URL:https://jc-oase.nl/evenement/carnaval-2/
LOCATION:Jeugdcentrum Oase\, Dommelstraat 10A\, Son\, Nederland
ATTACH;FMTTYPE=image/jpeg:https://jc-oase.nl/wp-content/uploads/2022/11/Confetti2_wit-1.jpg
ORGANIZER;CN="Jeugdcentrum Oase":MAILTO:info@jc-oase.nl
END:VEVENT
BEGIN:VEVENT
DTSTART;TZID=Europe/Amsterdam:20260216T140000
DTEND;TZID=Europe/Amsterdam:20260216T180000
DTSTAMP:20260419T171946
CREATED:20230109T113852Z
LAST-MODIFIED:20251020T061948Z
UID:1281-1771250400-1771264800@jc-oase.nl
SUMMARY:Carnaval maandag middag
DESCRIPTION:
URL:https://jc-oase.nl/evenement/carnaval-maandag-middag/
LOCATION:Jeugdcentrum Oase\, Dommelstraat 10A\, Son\, Nederland
ATTACH;FMTTYPE=image/jpeg:https://jc-oase.nl/wp-content/uploads/2022/11/Confetti2_wit-1.jpg
ORGANIZER;CN="Jeugdcentrum Oase":MAILTO:info@jc-oase.nl
END:VEVENT
BEGIN:VEVENT
DTSTART;TZID=Europe/Amsterdam:20260216T190000
DTEND;TZID=Europe/Amsterdam:20260216T220000
DTSTAMP:20260419T171946
CREATED:20230109T113741Z
LAST-MODIFIED:20251020T061926Z
UID:1279-1771268400-1771279200@jc-oase.nl
SUMMARY:Carnaval maandag avond
DESCRIPTION:
URL:https://jc-oase.nl/evenement/carnaval-maandag-avond/
LOCATION:Jeugdcentrum Oase\, Dommelstraat 10A\, Son\, Nederland
ATTACH;FMTTYPE=image/jpeg:https://jc-oase.nl/wp-content/uploads/2022/11/Oase_carnavalposter.jpg
ORGANIZER;CN="Jeugdcentrum Oase":MAILTO:info@jc-oase.nl
END:VEVENT
END:VCALENDAR