BEGIN:VCALENDAR
VERSION:2.0
PRODID:-//JC Oase - ECPv6.15.17//NONSGML v1.0//EN
CALSCALE:GREGORIAN
METHOD:PUBLISH
X-ORIGINAL-URL:https://jc-oase.nl
X-WR-CALDESC:Evenementen voor JC Oase
REFRESH-INTERVAL;VALUE=DURATION:PT1H
X-Robots-Tag:noindex
X-PUBLISHED-TTL:PT1H
BEGIN:VTIMEZONE
TZID:Europe/Amsterdam
BEGIN:DAYLIGHT
TZOFFSETFROM:+0100
TZOFFSETTO:+0200
TZNAME:CEST
DTSTART:20240331T010000
END:DAYLIGHT
BEGIN:STANDARD
TZOFFSETFROM:+0200
TZOFFSETTO:+0100
TZNAME:CET
DTSTART:20241027T010000
END:STANDARD
BEGIN:DAYLIGHT
TZOFFSETFROM:+0100
TZOFFSETTO:+0200
TZNAME:CEST
DTSTART:20250330T010000
END:DAYLIGHT
BEGIN:STANDARD
TZOFFSETFROM:+0200
TZOFFSETTO:+0100
TZNAME:CET
DTSTART:20251026T010000
END:STANDARD
BEGIN:DAYLIGHT
TZOFFSETFROM:+0100
TZOFFSETTO:+0200
TZNAME:CEST
DTSTART:20260329T010000
END:DAYLIGHT
BEGIN:STANDARD
TZOFFSETFROM:+0200
TZOFFSETTO:+0100
TZNAME:CET
DTSTART:20261025T010000
END:STANDARD
END:VTIMEZONE
BEGIN:VEVENT
DTSTART;TZID=Europe/Amsterdam:20251211T153000
DTEND;TZID=Europe/Amsterdam:20251211T163000
DTSTAMP:20260419T200354
CREATED:20251104T100010Z
LAST-MODIFIED:20251104T100447Z
UID:8906-1765467000-1765470600@jc-oase.nl
SUMMARY:Rots Water Training
DESCRIPTION:
URL:https://jc-oase.nl/evenement/rots-water-training/
LOCATION:Jeugdcentrum Oase\, Dommelstraat 10A\, Son\, Nederland
ATTACH;FMTTYPE=image/jpeg:https://jc-oase.nl/wp-content/uploads/2022/11/oase-logo-80x80-small-1.jpg
ORGANIZER;CN="Jeugdcentrum Oase":MAILTO:info@jc-oase.nl
END:VEVENT
BEGIN:VEVENT
DTSTART;TZID=Europe/Amsterdam:20251213T193000
DTEND;TZID=Europe/Amsterdam:20251213T220000
DTSTAMP:20260419T200354
CREATED:20240924T063650Z
LAST-MODIFIED:20250610T135224Z
UID:6519-1765654200-1765663200@jc-oase.nl
SUMMARY:Disco Avond
DESCRIPTION:
URL:https://jc-oase.nl/evenement/disco-avond-12/
LOCATION:Jeugdcentrum Oase\, Dommelstraat 10A\, Son\, Nederland
ATTACH;FMTTYPE=image/jpeg:https://jc-oase.nl/wp-content/uploads/2022/08/discoavond.jpg
ORGANIZER;CN="Jeugdcentrum Oase":MAILTO:info@jc-oase.nl
END:VEVENT
BEGIN:VEVENT
DTSTART;TZID=Europe/Amsterdam:20251219T190000
DTEND;TZID=Europe/Amsterdam:20251219T220000
DTSTAMP:20260419T200354
CREATED:20250403T144456Z
LAST-MODIFIED:20251020T060954Z
UID:6716-1766170800-1766181600@jc-oase.nl
SUMMARY:Kinderfeest
DESCRIPTION:
URL:https://jc-oase.nl/evenement/kinderfeest-11/
LOCATION:Jeugdcentrum Oase\, Dommelstraat 10A\, Son\, Nederland
ATTACH;FMTTYPE=image/jpeg:https://jc-oase.nl/wp-content/uploads/2022/11/oase-logo-80x80-small-1.jpg
ORGANIZER;CN="Jeugdcentrum Oase":MAILTO:info@jc-oase.nl
END:VEVENT
END:VCALENDAR