BEGIN:VCALENDAR
VERSION:2.0
PRODID:-//JC Oase - ECPv6.15.17//NONSGML v1.0//EN
CALSCALE:GREGORIAN
METHOD:PUBLISH
X-WR-CALNAME:JC Oase
X-ORIGINAL-URL:https://jc-oase.nl
X-WR-CALDESC:Evenementen voor JC Oase
REFRESH-INTERVAL;VALUE=DURATION:PT1H
X-Robots-Tag:noindex
X-PUBLISHED-TTL:PT1H
BEGIN:VTIMEZONE
TZID:Europe/Amsterdam
BEGIN:DAYLIGHT
TZOFFSETFROM:+0100
TZOFFSETTO:+0200
TZNAME:CEST
DTSTART:20240331T010000
END:DAYLIGHT
BEGIN:STANDARD
TZOFFSETFROM:+0200
TZOFFSETTO:+0100
TZNAME:CET
DTSTART:20241027T010000
END:STANDARD
BEGIN:DAYLIGHT
TZOFFSETFROM:+0100
TZOFFSETTO:+0200
TZNAME:CEST
DTSTART:20250330T010000
END:DAYLIGHT
BEGIN:STANDARD
TZOFFSETFROM:+0200
TZOFFSETTO:+0100
TZNAME:CET
DTSTART:20251026T010000
END:STANDARD
BEGIN:DAYLIGHT
TZOFFSETFROM:+0100
TZOFFSETTO:+0200
TZNAME:CEST
DTSTART:20260329T010000
END:DAYLIGHT
BEGIN:STANDARD
TZOFFSETFROM:+0200
TZOFFSETTO:+0100
TZNAME:CET
DTSTART:20261025T010000
END:STANDARD
END:VTIMEZONE
BEGIN:VEVENT
DTSTART;TZID=Europe/Amsterdam:20251002T173000
DTEND;TZID=Europe/Amsterdam:20251002T190000
DTSTAMP:20260419T235838
CREATED:20230123T080753Z
LAST-MODIFIED:20250529T082637Z
UID:1335-1759426200-1759431600@jc-oase.nl
SUMMARY:Weerbaarheidstraining
DESCRIPTION:
URL:https://jc-oase.nl/evenement/weerbaarheidstraining-10/
LOCATION:Jeugdcentrum Oase\, Dommelstraat 10A\, Son\, Nederland
ATTACH;FMTTYPE=image/jpeg:https://jc-oase.nl/wp-content/uploads/2022/11/weerbaar-1.jpg
ORGANIZER;CN="Jeugdcentrum Oase":MAILTO:info@jc-oase.nl
END:VEVENT
BEGIN:VEVENT
DTSTART;TZID=Europe/Amsterdam:20251009T180000
DTEND;TZID=Europe/Amsterdam:20251009T190000
DTSTAMP:20260419T235838
CREATED:20240611T135208Z
LAST-MODIFIED:20250529T082527Z
UID:6452-1760032800-1760036400@jc-oase.nl
SUMMARY:Weerbaarheidstraining
DESCRIPTION:
URL:https://jc-oase.nl/evenement/weerbaarheidstraining-12/
LOCATION:Jeugdcentrum Oase\, Dommelstraat 10A\, Son\, Nederland
ATTACH;FMTTYPE=image/jpeg:https://jc-oase.nl/wp-content/uploads/2022/11/weerbaar-1.jpg
ORGANIZER;CN="Jeugdcentrum Oase":MAILTO:info@jc-oase.nl
END:VEVENT
BEGIN:VEVENT
DTSTART;TZID=Europe/Amsterdam:20251010T200000
DTEND;TZID=Europe/Amsterdam:20251010T223000
DTSTAMP:20260419T235838
CREATED:20250526T112957Z
LAST-MODIFIED:20250526T112957Z
UID:8169-1760126400-1760135400@jc-oase.nl
SUMMARY:Stichting Meedoen Cafe
DESCRIPTION:
URL:https://jc-oase.nl/evenement/stichting-meedoen-cafe-9/
LOCATION:Jeugdcentrum Oase\, Dommelstraat 10A\, Son\, Nederland
ATTACH;FMTTYPE=image/jpeg:https://jc-oase.nl/wp-content/uploads/2022/11/meedoen.jpg
ORGANIZER;CN="Jeugdcentrum Oase":MAILTO:info@jc-oase.nl
END:VEVENT
BEGIN:VEVENT
DTSTART;TZID=Europe/Amsterdam:20251023T180000
DTEND;TZID=Europe/Amsterdam:20251023T190000
DTSTAMP:20260419T235838
CREATED:20240611T135142Z
LAST-MODIFIED:20250529T082607Z
UID:6450-1761242400-1761246000@jc-oase.nl
SUMMARY:Weerbaarheidstraining
DESCRIPTION:
URL:https://jc-oase.nl/evenement/weerbaarheidstraining-11/
LOCATION:Jeugdcentrum Oase\, Dommelstraat 10A\, Son\, Nederland
ATTACH;FMTTYPE=image/jpeg:https://jc-oase.nl/wp-content/uploads/2022/11/weerbaar-1.jpg
ORGANIZER;CN="Jeugdcentrum Oase":MAILTO:info@jc-oase.nl
END:VEVENT
BEGIN:VEVENT
DTSTART;TZID=Europe/Amsterdam:20251025T170000
DTEND;TZID=Europe/Amsterdam:20251025T230000
DTSTAMP:20260419T235838
CREATED:20250717T070231Z
LAST-MODIFIED:20250717T070339Z
UID:8799-1761411600-1761433200@jc-oase.nl
SUMMARY:Halloween
DESCRIPTION:
URL:https://jc-oase.nl/evenement/halloween/
LOCATION:Jeugdcentrum Oase\, Dommelstraat 10A\, Son\, Nederland
ATTACH;FMTTYPE=image/jpeg:https://jc-oase.nl/wp-content/uploads/2025/05/Oase-Halloween.jpg
ORGANIZER;CN="Jeugdcentrum Oase":MAILTO:info@jc-oase.nl
END:VEVENT
BEGIN:VEVENT
DTSTART;TZID=Europe/Amsterdam:20251030T180000
DTEND;TZID=Europe/Amsterdam:20251030T190000
DTSTAMP:20260419T235838
CREATED:20240611T135218Z
LAST-MODIFIED:20250529T082448Z
UID:6454-1761847200-1761850800@jc-oase.nl
SUMMARY:Weerbaarheidstraining
DESCRIPTION:
URL:https://jc-oase.nl/evenement/weerbaarheidstraining-13/
LOCATION:Jeugdcentrum Oase\, Dommelstraat 10A\, Son\, Nederland
ATTACH;FMTTYPE=image/jpeg:https://jc-oase.nl/wp-content/uploads/2022/11/weerbaar-1.jpg
ORGANIZER;CN="Jeugdcentrum Oase":MAILTO:info@jc-oase.nl
END:VEVENT
END:VCALENDAR